BEGIN:VCALENDAR
VERSION:2.0
PRODID:-//Help. Sorry. Love. - ECPv4.4.0.1//NONSGML v1.0//EN
CALSCALE:GREGORIAN
METHOD:PUBLISH
X-WR-CALNAME:Help. Sorry. Love.
X-ORIGINAL-URL:http://helpsorrylove.org
X-WR-CALDESC:Events for Help. Sorry. Love.
BEGIN:VEVENT
DTSTART;TZID=UTC+0:20171021T163000
DTEND;TZID=UTC+0:20171021T193000
DTSTAMP:20260421T150735
CREATED:20170925T160542Z
LAST-MODIFIED:20170925T161305Z
UID:1784-1508603400-1508614200@helpsorrylove.org
SUMMARY:"Revive" Caring For Caregivers
DESCRIPTION:Our Help\, Sorry\, Love NFP team is excited to announce our new “Revive” series of events that will begin on October 21st.\n\nThe first event in our “Revive” series will begin with a night entitled “Caring For Caregivers”. Are you or someone you know a Caregiver by nature\, profession or simply due to the circumstances? This can be a very challenging role to play and often times\, while caring for others\, our own overall health can suffer as a result.\n\n“Caring For Caregivers" is meant to help us as caregivers recognize when we need nourishment for the body\, heart and soul and how to find it. Those who have cared for their children\, spouses\, parents\, other loved ones\, clients or even strangers with special needs of any kind; this night is for you.\n\nCome enjoy a night with friends\, filled with food\, music and fellowship\, and designed to provide rest\, revitalization and resources for the caring hearts of our community. Our central theme\, Finding nourishment to live and thrive in the most challenging times\, is reinforced through live music\, personal testimony\, and information from community leaders.\n\nOur event will be hosted at the Homestead 1854 B&B\, which provides a beautiful and peaceful setting for fellowship and warm conversation. Rooms are available if you would like to stay for the evening. To book your room at the Homestead please call Mary Kay at 1-630-552-4322.\n\n HOW TO MAKE YOUR RESERVATION AND MORE DETAILS BELOW:\n\nWhen: Saturday\, October 21\, 4:30pm-7:30pm\nWhere: The Homestead 1854\, Plano IL\, 600-698 E North St\, Plano\, IL 60545 thehomestead1854.com\nTicket Price: $10 per person suggestion contribution with an option to support Help\, Sorry\, Love NFP with additional payment. (100% of donations are tax deductable and go directly to providing resources for those in our community. We have NO paid staff members in our organizations.)\n\n \tTickets include: \n\n \tAn evening with friends in the elegant comfort of the historical Homestead 1854 B&B in Plano\, IL\n \tHealthy Food Options that are Locally Sourced and prepared fresh by Chef and Culinary Arts Instructor Jessica Rachel Conover and her team.\n \tLive Music by Jon Conover\, Tom Hartnett and Olivia Ports \n \tGuest Speakers\, Activities and Small Group Discussions \n \tGourmet Coffee Service\n\n\n\nAfter making your suggested donation please call the Homestead 1854 to make your reservation: 1-630-552-4322\n\n \t\n\n \t\n\n \t[give_form id="1787"]\n\n\n\n\n
URL:http://helpsorrylove.org/event/revive-caring-for-caregivers/
LOCATION:600-698 E North St.\, Plano\, IL\, 60545\, United States
ATTACH;FMTTYPE=image/jpeg:http://helpsorrylove.org/wp-content/uploads/2017/09/revive_caregivers.jpg
END:VEVENT
END:VCALENDAR