BEGIN:VCALENDAR
VERSION:2.0
PRODID:-//Help. Sorry. Love. - ECPv4.4.0.1//NONSGML v1.0//EN
CALSCALE:GREGORIAN
METHOD:PUBLISH
X-WR-CALNAME:Help. Sorry. Love.
X-ORIGINAL-URL:http://helpsorrylove.org
X-WR-CALDESC:Events for Help. Sorry. Love.
BEGIN:VEVENT
DTSTART;TZID=UTC+0:20161216T173000
DTEND;TZID=UTC+0:20161216T203000
DTSTAMP:20260422T081510
CREATED:20151119T152730Z
LAST-MODIFIED:20160914T124931Z
UID:1648-1481909400-1481920200@helpsorrylove.org
SUMMARY:Family Dinner
DESCRIPTION:“Family Dinner” (a Help\, Sorry\, Love NFP Event)\nCome enjoy a FREE dinner brought to you by Help.Sorry.Love NFP and prepared by\, Chef Jessica Rachel Conover\, culinary instructor at Indian Valley Vocational Ceneter. Along with food and live entertainment\, you will enjoy guest speakers sharing personal testimonies and providing information. Learn about resources that can get you through the holidays with joy in your heart\, even if you’re struggling with depression\, grief\, addiction and/or the loss of a loved one. Spend time with people in our community that are passionate to help\, inspire and encourage. Everyone is welcome! We are accepting donations\, half of which will go towards supporting the Fox Valley Older Adults Center (FVOAS) and the remaining half will be put towards providing this event. In order to offer free events such as this\, and also give much-needed assistance to the FVOAS we need your support. This is our time to shine\, unite our community\, young and old\, in the spirit of hope and thanksgiving. Please find more information about this event below as well as a donation form where you can help make it all possible.\n\n“Silent Auction”\nTo support the seniors in our community as well as the Fox Valley Older Adults Center as much as possible\, we will be hosting a silent auction. We will be collecting gift cards\, gift baskets etc. from local business and community members to auction off at our next HSL event on Dec. 18th. For more details please contact: Jaye Morrison\, phone: 815-509-5627 or by email: jaye_morrison@yahoo.com.\n\n“Coat Drive”\nWe are also collecting new or gently used coats that can be dropped off at the FVOAC or JC Health and Fitness in Sandwich\, IL from now until Dec. 18th.  With the help of Dekalb County health department\, these coats will be distributed to the people in our communities that need a warm coat for the winter and cannot afford one. Please clean out your closets or purchase a gift for someone in need this year.\n\nDrop Off Sites\n\n \tJC Health and Fitness- 101 S. Main St.\, Sandwich IL\, Hours- 5:30am-7:30pm Mon.-Thurs. and day time hours on Fri. until 4pm  and Sat. until 12pm.\n \tFox Valley Older Adults Center- 1406 Suydam Rd\, Sandwich\, IL\, Open Daily\n\n\nEvent Date: Friday\, Dec. 16th\, 5:30pm-8:30pm\nEvent Location: Fox Valley Older Adults Center\, 1406 Suydam Rd\, Sandwich\, IL 60548\n\n\n \tYou must have a reservation in order to attend please RSVP to:\ninfo@helpsorrylove.org\nWith the following information:\n( 1.) Your Name  ( 2.) Number of attendees (Max of 6 per name)  ( 3.) The best way to contact you\n\n \tOff-line donations can be mailed to: \nGary Illg & Associates Professional Services\n195 Kendall Point Dr #15\, Oswego\, IL 60543\nPlease make checks payable to:\nHelp.Sorry.Love NFP and indicate in the memo line\n“Family Dinner” [give_form id="1653"]\n
URL:http://helpsorrylove.org/event/family-dinner/
LOCATION:1406 Suydam Rd\, \, Sandwich\, IL\, 60548\, United States
ATTACH;FMTTYPE=image/jpeg:http://helpsorrylove.org/wp-content/uploads/2015/11/family_dinner_op2.jpg
END:VEVENT
END:VCALENDAR